BEGIN:VCALENDAR
VERSION:2.0
PRODID:-//sKoooL - ECPv6.15.11//NONSGML v1.0//EN
CALSCALE:GREGORIAN
METHOD:PUBLISH
X-WR-CALNAME:sKoooL
X-ORIGINAL-URL:https://skoool.cz
X-WR-CALDESC:Events for sKoooL
REFRESH-INTERVAL;VALUE=DURATION:PT1H
X-Robots-Tag:noindex
X-PUBLISHED-TTL:PT1H
BEGIN:VTIMEZONE
TZID:Europe/Paris
BEGIN:DAYLIGHT
TZOFFSETFROM:+0100
TZOFFSETTO:+0200
TZNAME:CEST
DTSTART:20190331T010000
END:DAYLIGHT
BEGIN:STANDARD
TZOFFSETFROM:+0200
TZOFFSETTO:+0100
TZNAME:CET
DTSTART:20191027T010000
END:STANDARD
BEGIN:DAYLIGHT
TZOFFSETFROM:+0100
TZOFFSETTO:+0200
TZNAME:CEST
DTSTART:20200329T010000
END:DAYLIGHT
BEGIN:STANDARD
TZOFFSETFROM:+0200
TZOFFSETTO:+0100
TZNAME:CET
DTSTART:20201025T010000
END:STANDARD
BEGIN:DAYLIGHT
TZOFFSETFROM:+0100
TZOFFSETTO:+0200
TZNAME:CEST
DTSTART:20210328T010000
END:DAYLIGHT
BEGIN:STANDARD
TZOFFSETFROM:+0200
TZOFFSETTO:+0100
TZNAME:CET
DTSTART:20211031T010000
END:STANDARD
END:VTIMEZONE
BEGIN:VEVENT
DTSTART;VALUE=DATE:20200308
DTEND;VALUE=DATE:20200309
DTSTAMP:20260423T235227
CREATED:20200308T105828Z
LAST-MODIFIED:20210819T152815Z
UID:2362-1583625600-1583711999@skoool.cz
SUMMARY:COVID – 19 ve sKoooL. Petřiny
DESCRIPTION:Dobrý den\, \nvzhledem ke situaci  s COVID-19 A to že zatím situace není jasná jak to bude dal\, chtěla bych vás informovat že pro zatím kurzy na Petřinach jsou otevřeny a pracujeme podle rozvrhu. Ale budeme sledovat zprávy co se tyče karantén ve školách a budeme vás dále informovat.\nVzhledem k tomu\, že máme zavřeno ve škole Červený vrch\, od začátku týdne otvíráme pilotní projekt on-line kurz Angličtiny pro starší skupiny. Cely týden budeme mít u dvou skupin lekce on-line. V případě že projekt bude úspěšný\, a budeme mít zavřeno i u nás\, budeme nabízet on-line kurz i pro vás.\nHodiny pro mladší skupiny budou uhrazené ve létě. \nTake care and stay safe. \nsKoooL
URL:https://skoool.cz/events/covid-19-ve-skoool-petriny/
ATTACH;FMTTYPE=image/jpeg:https://skoool.cz/wp-content/uploads/2020/03/cOVID-19.jpg
END:VEVENT
BEGIN:VEVENT
DTSTART;TZID=Europe/Paris:20200305T000000
DTEND;TZID=Europe/Paris:20200322T235959
DTSTAMP:20260423T235227
CREATED:20200304T130540Z
LAST-MODIFIED:20250122T185420Z
UID:2353-1583366400-1584921599@skoool.cz
SUMMARY:COVID - 19 ve ZsCvrch
DESCRIPTION:Dobrý den\,\n\nVzhledem ke situace ohledně COVID-19 a na základě doporučení zřizovatele o omezení kontaktu žáků s osobami\, které nejsou zaměstnanci školy\, do 20.03.2020 dočasně musíme zrušit kurzy výuky Angličtiny. Zítra už kroužky nejsou.\nRozhodujeme jestli máme posunout kurz na letní měsíc. Nebo vzhledem k tomu\, že není jasno na jak dlouho situace z karanténa bude\, přimyslíme o on-line kurzu.\nBudeme vás informovat.
URL:https://skoool.cz/events/covid-19-ve-zscvrch/
ATTACH;FMTTYPE=image/jpeg:https://skoool.cz/wp-content/uploads/2020/03/cOVID-19.jpg
END:VEVENT
BEGIN:VEVENT
DTSTART;VALUE=DATE:20200224
DTEND;VALUE=DATE:20200302
DTSTAMP:20260423T235227
CREATED:20200217T161624Z
LAST-MODIFIED:20200221T163209Z
UID:2184-1582502400-1583107199@skoool.cz
SUMMARY:Jarní Prázdniny ve sKoooL. Budeme mít zavřeno! 
DESCRIPTION:Enjoy the holidays 🙂
URL:https://skoool.cz/events/jarni-prazdniny/
ATTACH;FMTTYPE=image/jpeg:https://skoool.cz/wp-content/uploads/2020/02/bu.jpg
END:VEVENT
END:VCALENDAR