BEGIN:VCALENDAR
VERSION:2.0
PRODID:-//sKoooL - ECPv6.15.11//NONSGML v1.0//EN
CALSCALE:GREGORIAN
METHOD:PUBLISH
X-WR-CALNAME:sKoooL
X-ORIGINAL-URL:https://skoool.cz
X-WR-CALDESC:Events for sKoooL
REFRESH-INTERVAL;VALUE=DURATION:PT1H
X-Robots-Tag:noindex
X-PUBLISHED-TTL:PT1H
BEGIN:VTIMEZONE
TZID:Europe/Paris
BEGIN:DAYLIGHT
TZOFFSETFROM:+0100
TZOFFSETTO:+0200
TZNAME:CEST
DTSTART:20230326T010000
END:DAYLIGHT
BEGIN:STANDARD
TZOFFSETFROM:+0200
TZOFFSETTO:+0100
TZNAME:CET
DTSTART:20231029T010000
END:STANDARD
BEGIN:DAYLIGHT
TZOFFSETFROM:+0100
TZOFFSETTO:+0200
TZNAME:CEST
DTSTART:20240331T010000
END:DAYLIGHT
BEGIN:STANDARD
TZOFFSETFROM:+0200
TZOFFSETTO:+0100
TZNAME:CET
DTSTART:20241027T010000
END:STANDARD
BEGIN:DAYLIGHT
TZOFFSETFROM:+0100
TZOFFSETTO:+0200
TZNAME:CEST
DTSTART:20250330T010000
END:DAYLIGHT
BEGIN:STANDARD
TZOFFSETFROM:+0200
TZOFFSETTO:+0100
TZNAME:CET
DTSTART:20251026T010000
END:STANDARD
END:VTIMEZONE
BEGIN:VEVENT
DTSTART;TZID=Europe/Paris:20240805T070000
DTEND;TZID=Europe/Paris:20240809T160000
DTSTAMP:20260424T082658
CREATED:20240521T171002Z
LAST-MODIFIED:20240619T163813Z
UID:5653-1722841200-1723219200@skoool.cz
SUMMARY:Prague Camp 2024 Děti: 7-12 let
DESCRIPTION:05 – 09. 08. 2024\n\n\n\nAnglický Tábor pro děti s rodilými mluvčími!\n\n\n\nPřidejte se k nám na jedinečný letní tábor\, kde se angličtina snoubí se zdravým pohybem! \n\n\n\nKaždý den vaše děti zažijí intenzivní ponoření do anglického jazyka po dobu 7 hodin denně s rodilými mluvčími! Od 9 do 12 hodin probíhá intenzivní výuka. Tento rok využijeme metodu Phenomena – based learning. Tato metoda se zaměřuje na objevování\, zkoumání a porozumění fenoménů a problémů skrze interaktivní a praktické aktivity. Cílem je podporovat hlubší porozumění a zároveň rozvíjet kritické myšlení\, analytické schopnosti a schopnost řešit problémy. Hlavním tématem tábora bude “Jak otevřít vlastní podnik.” \n\n\n\n\nCo Vaše Děti Zažijí?\n\n\n\n\nRanní Intenzivní Výuka: Inovativní metody s rodilými mluvčími.\n\n\n\nZdravé a Chutné Jídlo: Každý den pestrá a výživná strava.\n\n\n\nDobrodružné Odpolední Aktivity: Wakeboarding\, pěší výlety\, slackline\, koupání\, lanový park a páteční pikniky.\n\n\n\nPáteční Grilování: Velký výlet a grilování burgerů.\n\n\n\nZábava a Odměny: Velká párty a odměny za pokroky v angličtině.\n\n\n\n\n\nProč Se Připojit?\n\n\n\nPomůžeme vašim dětem překonat jazykové bariéry a zlepšit jejich angličtinu ve skutečně zábavném a podnětném prostředí.  \n\n\n\nLetos s Těmito Učiteli: Diana\, Dan a vrací se k nám Kristen. \n\n\n\n\n\n\n\n\n\n\n\n\n\n\n\n\n\nCena: 6500\,- 10% slevu pro naše stálé zákazníky!\n\n\n\nCena zahrnuje: \n\n\n\n\nObědy\, svačiny a nápoje\n\n\n\n40 hodin angličtiny\n\n\n\nVstupné\, sporty\, sportovní vybavení\, učební materiály\, dárky\n\n\n\n\nZajistěte svému dítěti nezapomenutelné léto! Počet míst je omezen!
URL:https://skoool.cz/events/prague-city-camp-2024-pro-mladsi-7-12-let/
LOCATION:sKoooL Petřiny\, Na Okraji 14\, Praha 6\, 162 00\, Czech Republic
ATTACH;FMTTYPE=image/jpeg:https://skoool.cz/wp-content/uploads/2023/02/photo_2023-02-21_10-59-51.jpg
END:VEVENT
END:VCALENDAR