BEGIN:VCALENDAR
VERSION:2.0
PRODID:-//sKoooL - ECPv6.15.11//NONSGML v1.0//EN
CALSCALE:GREGORIAN
METHOD:PUBLISH
X-ORIGINAL-URL:https://skoool.cz
X-WR-CALDESC:Events for sKoooL
REFRESH-INTERVAL;VALUE=DURATION:PT1H
X-Robots-Tag:noindex
X-PUBLISHED-TTL:PT1H
BEGIN:VTIMEZONE
TZID:Europe/Paris
BEGIN:DAYLIGHT
TZOFFSETFROM:+0100
TZOFFSETTO:+0200
TZNAME:CEST
DTSTART:20230326T010000
END:DAYLIGHT
BEGIN:STANDARD
TZOFFSETFROM:+0200
TZOFFSETTO:+0100
TZNAME:CET
DTSTART:20231029T010000
END:STANDARD
BEGIN:DAYLIGHT
TZOFFSETFROM:+0100
TZOFFSETTO:+0200
TZNAME:CEST
DTSTART:20240331T010000
END:DAYLIGHT
BEGIN:STANDARD
TZOFFSETFROM:+0200
TZOFFSETTO:+0100
TZNAME:CET
DTSTART:20241027T010000
END:STANDARD
BEGIN:DAYLIGHT
TZOFFSETFROM:+0100
TZOFFSETTO:+0200
TZNAME:CEST
DTSTART:20250330T010000
END:DAYLIGHT
BEGIN:STANDARD
TZOFFSETFROM:+0200
TZOFFSETTO:+0100
TZNAME:CET
DTSTART:20251026T010000
END:STANDARD
END:VTIMEZONE
BEGIN:VEVENT
DTSTART;TZID=Europe/Paris:20241031T013000
DTEND;TZID=Europe/Paris:20241101T040000
DTSTAMP:20260424T041205
CREATED:20241022T083236Z
LAST-MODIFIED:20241022T083438Z
UID:6808-1730338200-1730433600@skoool.cz
SUMMARY:Halloween Cinema Day. Kids
DESCRIPTION:Zveme vás na Halloween Cinema Day pro naše žáky s Dianou a Mattem \n\n\n\n31.10 13:20 – 15:50 \n\n\n\n01.11 16:00 – 18:00
URL:https://skoool.cz/events/halloween-cinema-day-kids/
ATTACH;FMTTYPE=image/png:https://skoool.cz/wp-content/uploads/2024/10/Screenshot-2024-10-22-at-10.28.51.png
END:VEVENT
BEGIN:VEVENT
DTSTART;TZID=Europe/Paris:20241031T160000
DTEND;TZID=Europe/Paris:20241101T180000
DTSTAMP:20260424T041205
CREATED:20241022T084022Z
LAST-MODIFIED:20241022T084024Z
UID:6825-1730390400-1730484000@skoool.cz
SUMMARY:Halloween Cinema Day. Teens
DESCRIPTION:Zveme vás na Halloween Cinema Day pro naše žáky s Dianou a Mattem \n\n\n\n31.10 16:00 – 18:00 \n\n\n\n01.11 16:00 – 18:00
URL:https://skoool.cz/events/halloween-cinema-day-teens/
ATTACH;FMTTYPE=image/png:https://skoool.cz/wp-content/uploads/2024/10/Screenshot-2024-10-22-at-10.34.41.png
END:VEVENT
BEGIN:VEVENT
DTSTART;TZID=Europe/Paris:20241104T080000
DTEND;TZID=Europe/Paris:20241104T170000
DTSTAMP:20260424T041205
CREATED:20240322T165851Z
LAST-MODIFIED:20241022T083942Z
UID:5349-1730707200-1730739600@skoool.cz
SUMMARY:Příprava na bilingvální školy
DESCRIPTION:Dovolujeme si Vám nabídnout náš program Příprava předškoláků do bilingvních tříd. Jsme jazyková škola s dlouholetou praxí v oblasti výuky angličtiny a úspěšnou přípravou dětí na jazykové kurzy Cambridge. Už několik let učíme děti angličtinu a máme mnoho spokojených klientů. Před dvěma lety jsme otevřeli první třídu s rozšířenou výukou jazyka a dosáhli jsme skvělých výsledků. Děti začaly rychle rozumět anglickému jazyku a postupně začaly mluvit již během prvního pololetí. Věříme\, že čím dříve začneme děti učit anglicky\, tím rychleji a lépe budou dosahovat výsledků. \n\n\n\nProgram\, který chceme zavést ve vaší školce\, je zaměřen přímo na předškolní věk. Zahrnuje 3 hodiny týdně: 1 x 60 minut a 2 x 45 minut (90 minut vcelku). Děti budou učit rodilí mluvčí angličtiny a také učitel mluvící česky. Výuka bude zahrnovat hry\, projekty a metodu CLIL. Učení je založeno na předpokladu\, že cizí jazyky se lépe učí na základě reálného zážitku\, který je zprostředkován prostřednictvím cizího jazyka\, a ne pouhým zaměřením na jazyk samotný. Navíc bude program pestrý na angličtinu v pohybu\, písničky\, divadelní představení a art and craft. V případě zájmu mohou děti pokračovat i nadále\, v dalších ročnících. \n\n\n\n“Metoda CLIL (Content and Language Integrated Learning) je inovativní přístup. Tento přístup je ideální pro rozvoj soft skills\, jako jsou komunikační schopnosti\, týmová spolupráce\, kritické myšlení\, řešení problémů a kreativita. Děti se učí cizí jazyk v kontextu\, který jim dává smysl\, podobně jako se učí svůj mateřský jazyk. Jazyk je osvojován organicky prostřednictvím zábavných aktivit a praktického používání.” \n\n\n\n\n		All coursesLittle bugsNo courses hours available!No courses hours available!No courses available!\n	\n	\n		\n			\n			\n			\n				\n				\n				\n			\n		\n	\n\n\n\nRegistrace  \n\n\n\n\n\n\n\n\n\n\n\n\n\n\n\n\n\nsKoooL Petriny\n\n\n \n\n\n\n\n\n\n\nDiana \n\n\n\n+420 607 535 383 \n\n\n\nskoool.prg@gmail.com
URL:https://skoool.cz/events/preprava-na-bilingvalni-skoly/
ATTACH;FMTTYPE=image/png:https://skoool.cz/wp-content/uploads/2021/08/IMG_0063.png
ORGANIZER;CN="Diana":MAILTO:skoool.prg@gmail.com
END:VEVENT
BEGIN:VEVENT
DTSTART;TZID=Europe/Paris:20241110T140000
DTEND;TZID=Europe/Paris:20241110T163000
DTSTAMP:20260424T041205
CREATED:20241022T092855Z
LAST-MODIFIED:20241022T092858Z
UID:6835-1731247200-1731256200@skoool.cz
SUMMARY:Halloween 2024
DESCRIPTION:Zveme vás na sKoooL Halloween pro děti.
URL:https://skoool.cz/events/halloween-2024/
ATTACH;FMTTYPE=image/png:https://skoool.cz/wp-content/uploads/2023/10/Screenshot-2024-10-20-at-19.29.40.png
END:VEVENT
END:VCALENDAR