BEGIN:VCALENDAR
VERSION:2.0
PRODID:-//sKoooL - ECPv6.15.11//NONSGML v1.0//EN
CALSCALE:GREGORIAN
METHOD:PUBLISH
X-WR-CALNAME:sKoooL
X-ORIGINAL-URL:https://skoool.cz
X-WR-CALDESC:Events for sKoooL
REFRESH-INTERVAL;VALUE=DURATION:PT1H
X-Robots-Tag:noindex
X-PUBLISHED-TTL:PT1H
BEGIN:VTIMEZONE
TZID:Europe/Paris
BEGIN:DAYLIGHT
TZOFFSETFROM:+0100
TZOFFSETTO:+0200
TZNAME:CEST
DTSTART:20240331T010000
END:DAYLIGHT
BEGIN:STANDARD
TZOFFSETFROM:+0200
TZOFFSETTO:+0100
TZNAME:CET
DTSTART:20241027T010000
END:STANDARD
BEGIN:DAYLIGHT
TZOFFSETFROM:+0100
TZOFFSETTO:+0200
TZNAME:CEST
DTSTART:20250330T010000
END:DAYLIGHT
BEGIN:STANDARD
TZOFFSETFROM:+0200
TZOFFSETTO:+0100
TZNAME:CET
DTSTART:20251026T010000
END:STANDARD
BEGIN:DAYLIGHT
TZOFFSETFROM:+0100
TZOFFSETTO:+0200
TZNAME:CEST
DTSTART:20260329T010000
END:DAYLIGHT
BEGIN:STANDARD
TZOFFSETFROM:+0200
TZOFFSETTO:+0100
TZNAME:CET
DTSTART:20261025T010000
END:STANDARD
END:VTIMEZONE
BEGIN:VEVENT
DTSTART;TZID=Europe/Paris:20250406T140000
DTEND;TZID=Europe/Paris:20250406T170000
DTSTAMP:20260423T210201
CREATED:20250326T100859Z
LAST-MODIFIED:20250409T092828Z
UID:7048-1743948000-1743958800@skoool.cz
SUMMARY:Pajama Party.
DESCRIPTION:Zveme vás na Pajama Party! \n\n\n\n\n\n\n\nVzhledem k tomu\, že jsme v prvním pololetí zmeškali hodiny a nestihneme vám je vrátit do konce školního roku\, rozhodly jsme se uspořádat něco zajímavého. Nabízíme event\, který organizujeme speciálně pro vaše děti. Chystáme “Pajama Party”\, na které se děti mohou těšit na spoustu her\, soutěží a dokonce i kvízů. Společně si také přečteme “pohádku na dobrou noc”. \n\n\n\nPočet míst je omezen. Tato akce je určena pouze pro vaše děti a je zdarma v rámci vracení hodin\, které jsme zmeškali. Můžete se přihlásit zde. S sebou si vezměte pyžamo a svého usínáčka 🙂 \n\n\n\nBudeme se na to velmi těšit!  \n\n\n\n \n\n\n\nFoto z akce \n\n\n\nNíže jsou fotky z akce ‘Pajama Party’. Více fotek můžete najít na tomto odkazu
URL:https://skoool.cz/events/pajama-party/
ATTACH;FMTTYPE=image/jpeg:https://skoool.cz/wp-content/uploads/2025/03/Untitled_Artwork-6-copy.jpg
END:VEVENT
END:VCALENDAR