BEGIN:VCALENDAR
VERSION:2.0
PRODID:-//sKoooL - ECPv6.15.11//NONSGML v1.0//EN
CALSCALE:GREGORIAN
METHOD:PUBLISH
X-ORIGINAL-URL:https://skoool.cz
X-WR-CALDESC:Events for sKoooL
REFRESH-INTERVAL;VALUE=DURATION:PT1H
X-Robots-Tag:noindex
X-PUBLISHED-TTL:PT1H
BEGIN:VTIMEZONE
TZID:Europe/Paris
BEGIN:DAYLIGHT
TZOFFSETFROM:+0100
TZOFFSETTO:+0200
TZNAME:CEST
DTSTART:20240331T010000
END:DAYLIGHT
BEGIN:STANDARD
TZOFFSETFROM:+0200
TZOFFSETTO:+0100
TZNAME:CET
DTSTART:20241027T010000
END:STANDARD
BEGIN:DAYLIGHT
TZOFFSETFROM:+0100
TZOFFSETTO:+0200
TZNAME:CEST
DTSTART:20250330T010000
END:DAYLIGHT
BEGIN:STANDARD
TZOFFSETFROM:+0200
TZOFFSETTO:+0100
TZNAME:CET
DTSTART:20251026T010000
END:STANDARD
BEGIN:DAYLIGHT
TZOFFSETFROM:+0100
TZOFFSETTO:+0200
TZNAME:CEST
DTSTART:20260329T010000
END:DAYLIGHT
BEGIN:STANDARD
TZOFFSETFROM:+0200
TZOFFSETTO:+0100
TZNAME:CET
DTSTART:20261025T010000
END:STANDARD
END:VTIMEZONE
BEGIN:VEVENT
DTSTART;TZID=Europe/Paris:20250505T080000
DTEND;TZID=Europe/Paris:20250505T170000
DTSTAMP:20260423T193701
CREATED:20250126T235657Z
LAST-MODIFIED:20250129T195234Z
UID:6936-1746432000-1746464400@skoool.cz
SUMMARY:Příprava na zkoušku FCE/CAE
DESCRIPTION:Cambridge English Certificates \n\n\n\nMinulý týden jsme se skupinám FCE\, FCE Adv\, CAE a CAE Adv věnovali zkušebním testům. Byly to zkoušky na nečisto britských testů FCE a CAE. Některé děti je dělaly poprvé\, ale i přesto měly dobré výsledky. Díky nim jsme zjistili\, v jakých oblastech jsou nedostatky\, a na jaké jevy se máme v dalším pololetí soustředit. Projekt\, který běží v celé škole – Phenomena Based Learning\, se do těchto skupin nezapojuje. \n\n\n\n\n\n\n\n12.05 – 23.05.2025 proběhne další zkouška na nečisto těchto testů. \n\n\n\n\nCo to jsou za zkoušky? FCE (First Certificate in English) a CAE (Certificate in Advanced English) jsou mezinárodně uznávané zkoušky z anglického jazyka\, které organizuje Cambridge Assessment English. \n\n\n\nFCE (First Certificate in English):FCE je zkouška na úrovni B2 podle Evropského referenčního rámce pro jazyky. Je určena pro středně pokročilé studenty a slouží k prokázání schopnosti komunikovat v angličtině v pracovním nebo akademickém prostředí. Cílem testu je ověřit dovednosti v oblasti čtení\, psaní\, poslechu a mluvení. Úspěšné složení této zkoušky je často požadavkem pro pracovní místa nebo studium na vysokých školách ve Velké Británii a dalších anglicky mluvících zemích. \n\n\n\nCAE (Certificate in Advanced English):CAE je zkouška na úrovni C1 podle Evropského referenčního rámce pro jazyky. Je určena pro pokročilé studenty\, kteří chtějí prokázat svou vysokou úroveň angličtiny. Test hodnotí schopnost efektivně komunikovat v různých situacích a je vhodný pro profesionální a akademické účely. Úspěšné složení CAE otevírá cestu k lepším pracovním příležitostem a také k dalšímu studiu na univerzitách. \n\n\n\nObě zkoušky jsou výborným způsobem\, jak prokázat jazykové dovednosti a zvýšit tak své šance na trhu práce nebo při studiu v zahraničí. Testy nahrazují maturitní zkoušky z anglického jazyka na některých středních školách. Tyto zkoušky jsou uznávány jako alternativní forma zkoušení jazykových dovedností a jsou považovány za důkaz odpovídající úrovně znalosti angličtiny. \n\n\n\nDůležité! Před rozhodnutím o tom\, zda FCE nebo CAE nahradí maturitní zkoušku\, by však studenti měli zkontrolovat specifické požadavky své školy či vzdělávací instituce. \n\n\n\n\nMáme zájemce\, kteří by chtěli skládat tyto zkoušky s námi. My prozatím nemáme právo provádět Britske zkoušky u nás ve sKoooL. V případě zájmu můžeme organizovat skupinu z naší školy a domluvit se s British Council. Prosím o registraci. Čím víc nás bude\, tím lepší slevu můžeme dostat.
URL:https://skoool.cz/events/priprava-na-zkousku-fce-cae/
ATTACH;FMTTYPE=image/png:https://skoool.cz/wp-content/uploads/2024/06/Graduation_cap.png
END:VEVENT
BEGIN:VEVENT
DTSTART;TZID=Europe/Paris:20250512T080000
DTEND;TZID=Europe/Paris:20250512T170000
DTSTAMP:20260423T193701
CREATED:20250128T233149Z
LAST-MODIFIED:20250609T102034Z
UID:6988-1747036800-1747069200@skoool.cz
SUMMARY:Závěrečné testy a konzultační hodiny
DESCRIPTION:2. 05. – 23. 05. 2025. Jak to děláme každý rok na konci školního roku\, každá skupina bude psát test. Jsou to testy podobné britským testům Starters\, Movers\, Flyers\, KET\, PET\, FCE a CAE. Tyto testy kontrolují znalosti všech čtyř dovedností: speaking\, listening\, writing a reading. Výsledky těchto testů obvykle nesdílíme\, necháváme je pro sebe a zapisujeme do tabulky\, kde pečlivě sledujeme pokrok\, pokud dítě navštěvuje naši školu. Ani letos to nebude výjimkou\, výsledky opět ponecháme u sebe. \n\n\n\nV případě\, že byste chtěli znát výsledky nebo mluvit s učitelem ohledně svého dítěte\, jako novinku tohoto roku budou konzultační hodiny\, které proběhnou od 02. 06. 2025. Prosím\, dejte vědět předem\, jestli máte o to zájem
URL:https://skoool.cz/events/zaverecne-testy-a-konzultacni-hodiny/
ATTACH;FMTTYPE=image/jpeg:https://skoool.cz/wp-content/uploads/2025/01/Untitled_Artwork-5.jpg
END:VEVENT
END:VCALENDAR