BEGIN:VCALENDAR
VERSION:2.0
PRODID:-//sKoooL - ECPv6.15.11//NONSGML v1.0//EN
CALSCALE:GREGORIAN
METHOD:PUBLISH
X-ORIGINAL-URL:https://skoool.cz
X-WR-CALDESC:Events for sKoooL
REFRESH-INTERVAL;VALUE=DURATION:PT1H
X-Robots-Tag:noindex
X-PUBLISHED-TTL:PT1H
BEGIN:VTIMEZONE
TZID:Europe/Paris
BEGIN:DAYLIGHT
TZOFFSETFROM:+0100
TZOFFSETTO:+0200
TZNAME:CEST
DTSTART:20240331T010000
END:DAYLIGHT
BEGIN:STANDARD
TZOFFSETFROM:+0200
TZOFFSETTO:+0100
TZNAME:CET
DTSTART:20241027T010000
END:STANDARD
BEGIN:DAYLIGHT
TZOFFSETFROM:+0100
TZOFFSETTO:+0200
TZNAME:CEST
DTSTART:20250330T010000
END:DAYLIGHT
BEGIN:STANDARD
TZOFFSETFROM:+0200
TZOFFSETTO:+0100
TZNAME:CET
DTSTART:20251026T010000
END:STANDARD
BEGIN:DAYLIGHT
TZOFFSETFROM:+0100
TZOFFSETTO:+0200
TZNAME:CEST
DTSTART:20260329T010000
END:DAYLIGHT
BEGIN:STANDARD
TZOFFSETFROM:+0200
TZOFFSETTO:+0100
TZNAME:CET
DTSTART:20261025T010000
END:STANDARD
END:VTIMEZONE
BEGIN:VEVENT
DTSTART;TZID=Europe/Paris:20250818T080000
DTEND;TZID=Europe/Paris:20250818T150000
DTSTAMP:20260423T144819
CREATED:20250410T150925Z
LAST-MODIFIED:20250512T124442Z
UID:7044-1755504000-1755529200@skoool.cz
SUMMARY:Intenzivní kurz gramatiky — Life-Changing Grammar (úrovně B1 - B2).
DESCRIPTION:18 – 22. 08. 2025 \n\n\n\nZtrácíte se v anglické gramatice? Připadá vám to jako jeden velký chaos?Máme pro vás řešení – intenzivní letní kurz pro teenagery\, kteří si chtějí osvěžit a srovnat angličtinu ještě před začátkem školního roku.🧠 Co vás čeká?V našem unikátním týdenním kurzu vám pomůžeme pochopit anglickou gramatiku a uspořádat si ji – rozložíme všechny znalosti na přehledné „police“ a hlavně vás naučíme\, jak je efektivně používat v praxi \n\n\n\nMaximální počet žáků ve skupině je 10. \n\n\n\n📚 Žádné nudné učebnice!\n\n\n\n✅ Budeme probírat gramatiku\, hrát hry a mluvit\, a vše si vysvětlíme tak\, že tomu konečně porozumíte. \n\n\n\n✅ Každý den od 9:00 do 12:00 probíhá intenzivní výuka\, následuje oběd a odpolední blok her\, komunikace a zábavných aktivit – samozřejmě v angličtině! \n\n\n\n🎁 Chcete si to nejdřív vyzkoušet? \n\n\n\nPřihlaste se na náš jedinečný workshop zdarma\, kde vám ukážeme\, jak učíme – bez stresu\, srozumitelně a s úsměvem. \n\n\n\nGramatiku vám vysvětlíme způsobem\, jaký jste ještě nikde nezažili. \n\n\n\nPro spoustu studentů to byl opravdový gamechanger. A může být i pro vás. \n\n\n\n🔸 Workshop je zcela zdarma \n\n\n\n🔸 Počet míst je omezen – registrace nutná! \n\n\n\nV případě\, že už to máš jisté\, můžeš se zaregistrovat níže. Počet míst je omezen. \n\n\n\nLetos s Těmito Učiteli: Diana\, Dan a Nawal \n\n\n\n\n\n\n\n\n\n\n\n\n\n \n\n\n\nCena je 5500 Kč s 10 % slevou pro naše stálé zákazníky! Navíc 900 Kč na obědy na týden\, v případě\, že o to budete mít zájem. \n\n\n\nCena zahrnuje:30 hodin angličtiny a veškeré materiály\,Žádné další skryté poplatky \n\n\n\nRozvrh.
URL:https://skoool.cz/events/intensive-course-2025-pro-teenagers-level-b1-b2-life-changing-grammar/
ATTACH;FMTTYPE=image/jpeg:https://skoool.cz/wp-content/uploads/2025/04/test.jpg
END:VEVENT
END:VCALENDAR