BEGIN:VCALENDAR
VERSION:2.0
PRODID:-//sKoooL - ECPv6.15.11//NONSGML v1.0//EN
CALSCALE:GREGORIAN
METHOD:PUBLISH
X-ORIGINAL-URL:https://skoool.cz
X-WR-CALDESC:Events for sKoooL
REFRESH-INTERVAL;VALUE=DURATION:PT1H
X-Robots-Tag:noindex
X-PUBLISHED-TTL:PT1H
BEGIN:VTIMEZONE
TZID:Europe/Paris
BEGIN:DAYLIGHT
TZOFFSETFROM:+0100
TZOFFSETTO:+0200
TZNAME:CEST
DTSTART:20250330T010000
END:DAYLIGHT
BEGIN:STANDARD
TZOFFSETFROM:+0200
TZOFFSETTO:+0100
TZNAME:CET
DTSTART:20251026T010000
END:STANDARD
BEGIN:DAYLIGHT
TZOFFSETFROM:+0100
TZOFFSETTO:+0200
TZNAME:CEST
DTSTART:20260329T010000
END:DAYLIGHT
BEGIN:STANDARD
TZOFFSETFROM:+0200
TZOFFSETTO:+0100
TZNAME:CET
DTSTART:20261025T010000
END:STANDARD
BEGIN:DAYLIGHT
TZOFFSETFROM:+0100
TZOFFSETTO:+0200
TZNAME:CEST
DTSTART:20270328T010000
END:DAYLIGHT
BEGIN:STANDARD
TZOFFSETFROM:+0200
TZOFFSETTO:+0100
TZNAME:CET
DTSTART:20271031T010000
END:STANDARD
END:VTIMEZONE
BEGIN:VEVENT
DTSTART;TZID=Europe/Paris:20260130T080000
DTEND;TZID=Europe/Paris:20260130T170000
DTSTAMP:20260421T211222
CREATED:20260119T093057Z
LAST-MODIFIED:20260119T093136Z
UID:8000-1769760000-1769792400@skoool.cz
SUMMARY:Pololetní prázdniny ve sKoooL
DESCRIPTION:V pátek 30. 1. 2026 jsou pololetní prázdniny. sKoooL bude v tento den uzavřeno.
URL:https://skoool.cz/events/pololetni-prazdniny-ve-skoool/
ATTACH;FMTTYPE=image/png:https://skoool.cz/wp-content/uploads/2025/01/84-1.png
END:VEVENT
END:VCALENDAR